BEGIN:VCALENDAR
VERSION:2.0
PRODID:-//Kenton Masonic Lodge No. 145 - ECPv6.15.17//NONSGML v1.0//EN
CALSCALE:GREGORIAN
METHOD:PUBLISH
X-WR-CALNAME:Kenton Masonic Lodge No. 145
X-ORIGINAL-URL:https://www.kentonfreemasons.org
X-WR-CALDESC:Events for Kenton Masonic Lodge No. 145
REFRESH-INTERVAL;VALUE=DURATION:PT1H
X-Robots-Tag:noindex
X-PUBLISHED-TTL:PT1H
BEGIN:VTIMEZONE
TZID:America/Los_Angeles
BEGIN:DAYLIGHT
TZOFFSETFROM:-0800
TZOFFSETTO:-0700
TZNAME:PDT
DTSTART:20250309T100000
END:DAYLIGHT
BEGIN:STANDARD
TZOFFSETFROM:-0700
TZOFFSETTO:-0800
TZNAME:PST
DTSTART:20251102T090000
END:STANDARD
BEGIN:DAYLIGHT
TZOFFSETFROM:-0800
TZOFFSETTO:-0700
TZNAME:PDT
DTSTART:20260308T100000
END:DAYLIGHT
BEGIN:STANDARD
TZOFFSETFROM:-0700
TZOFFSETTO:-0800
TZNAME:PST
DTSTART:20261101T090000
END:STANDARD
BEGIN:DAYLIGHT
TZOFFSETFROM:-0800
TZOFFSETTO:-0700
TZNAME:PDT
DTSTART:20270314T100000
END:DAYLIGHT
BEGIN:STANDARD
TZOFFSETFROM:-0700
TZOFFSETTO:-0800
TZNAME:PST
DTSTART:20271107T090000
END:STANDARD
END:VTIMEZONE
BEGIN:VEVENT
DTSTART;TZID=America/Los_Angeles:20260401T160000
DTEND;TZID=America/Los_Angeles:20260401T230000
DTSTAMP:20260419T161928
CREATED:20250213T203107Z
LAST-MODIFIED:20250213T203130Z
UID:4004-1775059200-1775084400@www.kentonfreemasons.org
SUMMARY:BIU - 160
DESCRIPTION:BUILDING IN USE by Friendship Lodge No. 160 \nPlease contact Friendship Lodge.
URL:https://www.kentonfreemasons.org/event/biu-160-28/
END:VEVENT
END:VCALENDAR